BEGIN:VCALENDAR
VERSION:2.0
PRODID:-//Kinky Cuddling - ECPv6.8.2.1//NONSGML v1.0//EN
CALSCALE:GREGORIAN
METHOD:PUBLISH
X-WR-CALNAME:Kinky Cuddling
X-ORIGINAL-URL:https://anders-kuscheln.com/en/
X-WR-CALDESC:Events for Kinky Cuddling
REFRESH-INTERVAL;VALUE=DURATION:PT1H
X-Robots-Tag:noindex
X-PUBLISHED-TTL:PT1H
BEGIN:VTIMEZONE
TZID:Europe/Helsinki
BEGIN:DAYLIGHT
TZOFFSETFROM:+0200
TZOFFSETTO:+0300
TZNAME:EEST
DTSTART:20250330T010000
END:DAYLIGHT
BEGIN:STANDARD
TZOFFSETFROM:+0300
TZOFFSETTO:+0200
TZNAME:EET
DTSTART:20251026T010000
END:STANDARD
END:VTIMEZONE
BEGIN:VEVENT
DTSTART;TZID=Europe/Helsinki:20251217T200000
DTEND;TZID=Europe/Helsinki:20251217T233000
DTSTAMP:20260424T151656
CREATED:20250510T102041Z
LAST-MODIFIED:20250510T102041Z
UID:1892-1766001600-1766014200@anders-kuscheln.com
SUMMARY:Kinky Cuddling
DESCRIPTION:
URL:https://anders-kuscheln.com/en/event/kinky-cuddling-22/
LOCATION:Insomnia Berlin\, Alt-Tempelhof 17-19\, Berlin\, Berlin\, 12099\, Deutschland
END:VEVENT
END:VCALENDAR