BEGIN:VCALENDAR
VERSION:2.0
PRODID:-//Kinky Cuddling - ECPv6.8.2.1//NONSGML v1.0//EN
CALSCALE:GREGORIAN
METHOD:PUBLISH
X-ORIGINAL-URL:https://anders-kuscheln.com/en/
X-WR-CALDESC:Events for Kinky Cuddling
REFRESH-INTERVAL;VALUE=DURATION:PT1H
X-Robots-Tag:noindex
X-PUBLISHED-TTL:PT1H
BEGIN:VTIMEZONE
TZID:Europe/Helsinki
BEGIN:DAYLIGHT
TZOFFSETFROM:+0200
TZOFFSETTO:+0300
TZNAME:EEST
DTSTART:20260329T010000
END:DAYLIGHT
BEGIN:STANDARD
TZOFFSETFROM:+0300
TZOFFSETTO:+0200
TZNAME:EET
DTSTART:20261025T010000
END:STANDARD
END:VTIMEZONE
BEGIN:VEVENT
DTSTART;TZID=Europe/Helsinki:20260425T180000
DTEND;TZID=Europe/Helsinki:20260425T233000
DTSTAMP:20260423T123658
CREATED:20260127T134258Z
LAST-MODIFIED:20260127T134258Z
UID:1984-1777140000-1777159800@anders-kuscheln.com
SUMMARY:Kinky Cuddling Vienna
DESCRIPTION:
URL:https://anders-kuscheln.com/en/event/kinky-cuddling-vienna-7/
LOCATION:Berlin
END:VEVENT
BEGIN:VEVENT
DTSTART;TZID=Europe/Helsinki:20260502T200000
DTEND;TZID=Europe/Helsinki:20260502T233000
DTSTAMP:20260423T123658
CREATED:20260306T153852Z
LAST-MODIFIED:20260306T153852Z
UID:2007-1777752000-1777764600@anders-kuscheln.com
SUMMARY:Kinky Cuddling
DESCRIPTION:
URL:https://anders-kuscheln.com/en/event/kinky-cuddling-31/
LOCATION:Insomnia Berlin\, Alt-Tempelhof 17-19\, Berlin\, Berlin\, 12099\, Deutschland
END:VEVENT
BEGIN:VEVENT
DTSTART;TZID=Europe/Helsinki:20260520T200000
DTEND;TZID=Europe/Helsinki:20260520T233000
DTSTAMP:20260423T123658
CREATED:20260306T153938Z
LAST-MODIFIED:20260306T153938Z
UID:2010-1779307200-1779319800@anders-kuscheln.com
SUMMARY:Kinky Cuddling
DESCRIPTION:
URL:https://anders-kuscheln.com/en/event/kinky-cuddling-32/
LOCATION:Insomnia Berlin\, Alt-Tempelhof 17-19\, Berlin\, Berlin\, 12099\, Deutschland
END:VEVENT
BEGIN:VEVENT
DTSTART;TZID=Europe/Helsinki:20260530T180000
DTEND;TZID=Europe/Helsinki:20260530T233000
DTSTAMP:20260423T123658
CREATED:20260127T134402Z
LAST-MODIFIED:20260127T134402Z
UID:1987-1780164000-1780183800@anders-kuscheln.com
SUMMARY:Kinky Cuddling Vienna
DESCRIPTION:
URL:https://anders-kuscheln.com/en/event/kinky-cuddling-vienna-8/
LOCATION:Berlin
END:VEVENT
BEGIN:VEVENT
DTSTART;TZID=Europe/Helsinki:20260607T200000
DTEND;TZID=Europe/Helsinki:20260607T233000
DTSTAMP:20260423T123658
CREATED:20260306T154027Z
LAST-MODIFIED:20260306T154027Z
UID:2013-1780862400-1780875000@anders-kuscheln.com
SUMMARY:Kinky Cuddling
DESCRIPTION:
URL:https://anders-kuscheln.com/en/event/kinky-cuddling-33/
LOCATION:Insomnia Berlin\, Alt-Tempelhof 17-19\, Berlin\, Berlin\, 12099\, Deutschland
END:VEVENT
BEGIN:VEVENT
DTSTART;TZID=Europe/Helsinki:20260617T200000
DTEND;TZID=Europe/Helsinki:20260617T233000
DTSTAMP:20260423T123658
CREATED:20260306T154139Z
LAST-MODIFIED:20260306T154139Z
UID:2016-1781726400-1781739000@anders-kuscheln.com
SUMMARY:Kinky Cuddling
DESCRIPTION:
URL:https://anders-kuscheln.com/en/event/kinky-cuddling-34/
LOCATION:Insomnia Berlin\, Alt-Tempelhof 17-19\, Berlin\, Berlin\, 12099\, Deutschland
END:VEVENT
BEGIN:VEVENT
DTSTART;TZID=Europe/Helsinki:20260627T180000
DTEND;TZID=Europe/Helsinki:20260627T233000
DTSTAMP:20260423T123658
CREATED:20260127T134556Z
LAST-MODIFIED:20260127T134556Z
UID:1990-1782583200-1782603000@anders-kuscheln.com
SUMMARY:Kinky Cuddling Vienna
DESCRIPTION:
URL:https://anders-kuscheln.com/en/event/kinky-cuddling-vienna-9/
LOCATION:Berlin
END:VEVENT
END:VCALENDAR