BEGIN:VCALENDAR
VERSION:2.0
PRODID:-//Kinky Cuddling - ECPv6.8.2.1//NONSGML v1.0//EN
CALSCALE:GREGORIAN
METHOD:PUBLISH
X-ORIGINAL-URL:https://anders-kuscheln.com/en/
X-WR-CALDESC:Events for Kinky Cuddling
REFRESH-INTERVAL;VALUE=DURATION:PT1H
X-Robots-Tag:noindex
X-PUBLISHED-TTL:PT1H
BEGIN:VTIMEZONE
TZID:Europe/Helsinki
BEGIN:DAYLIGHT
TZOFFSETFROM:+0200
TZOFFSETTO:+0300
TZNAME:EEST
DTSTART:20240331T010000
END:DAYLIGHT
BEGIN:STANDARD
TZOFFSETFROM:+0300
TZOFFSETTO:+0200
TZNAME:EET
DTSTART:20241027T010000
END:STANDARD
BEGIN:DAYLIGHT
TZOFFSETFROM:+0200
TZOFFSETTO:+0300
TZNAME:EEST
DTSTART:20250330T010000
END:DAYLIGHT
BEGIN:STANDARD
TZOFFSETFROM:+0300
TZOFFSETTO:+0200
TZNAME:EET
DTSTART:20251026T010000
END:STANDARD
END:VTIMEZONE
BEGIN:VEVENT
DTSTART;TZID=Europe/Helsinki:20250328T200000
DTEND;TZID=Europe/Helsinki:20250328T233000
DTSTAMP:20260423T182703
CREATED:20250304T154953Z
LAST-MODIFIED:20250304T154953Z
UID:1810-1743192000-1743204600@anders-kuscheln.com
SUMMARY:Kinky Cuddling Vienna
DESCRIPTION:
URL:https://anders-kuscheln.com/en/event/kinky-cuddling-vienna-5/
LOCATION:Aux Gazelles\, Rahlgasse 5\, Vienna\, Vienna\, 1060\, Austria
END:VEVENT
BEGIN:VEVENT
DTSTART;TZID=Europe/Helsinki:20250319T200000
DTEND;TZID=Europe/Helsinki:20250319T233000
DTSTAMP:20260423T182703
CREATED:20250107T151232Z
LAST-MODIFIED:20250107T151232Z
UID:1783-1742414400-1742427000@anders-kuscheln.com
SUMMARY:Kinky Cuddling Berlin
DESCRIPTION:
URL:https://anders-kuscheln.com/en/event/kinky-cuddling-berlin-16/
LOCATION:Insomnia Berlin\, Alt-Tempelhof 17-19\, Berlin\, Berlin\, 12099\, Deutschland
END:VEVENT
BEGIN:VEVENT
DTSTART;TZID=Europe/Helsinki:20250306T200000
DTEND;TZID=Europe/Helsinki:20250306T233000
DTSTAMP:20260423T182703
CREATED:20250107T150748Z
LAST-MODIFIED:20250107T150807Z
UID:1774-1741291200-1741303800@anders-kuscheln.com
SUMMARY:Playfight Berlin
DESCRIPTION:
URL:https://anders-kuscheln.com/en/event/playfight/
LOCATION:Insomnia Berlin\, Alt-Tempelhof 17-19\, Berlin\, Berlin\, 12099\, Deutschland
END:VEVENT
BEGIN:VEVENT
DTSTART;TZID=Europe/Helsinki:20250301T070000
DTEND;TZID=Europe/Helsinki:20250301T233000
DTSTAMP:20260423T182703
CREATED:20250107T151141Z
LAST-MODIFIED:20250107T151141Z
UID:1780-1740812400-1740871800@anders-kuscheln.com
SUMMARY:Kinky Cuddling Berlin
DESCRIPTION:
URL:https://anders-kuscheln.com/en/event/kinky-cuddling-berlin-15/
LOCATION:Insomnia Berlin\, Alt-Tempelhof 17-19\, Berlin\, Berlin\, 12099\, Deutschland
END:VEVENT
BEGIN:VEVENT
DTSTART;TZID=Europe/Helsinki:20250228T200000
DTEND;TZID=Europe/Helsinki:20250228T233000
DTSTAMP:20260423T182703
CREATED:20241219T193831Z
LAST-MODIFIED:20241219T194541Z
UID:1744-1740772800-1740785400@anders-kuscheln.com
SUMMARY:Kinky Cuddling - Vienna
DESCRIPTION:
URL:https://anders-kuscheln.com/en/event/kinky-cuddling-5/
LOCATION:Dragonfly Vienna\, Tellgasse 25\, Vienna\, Vienna\, 1150\, Österreich
END:VEVENT
BEGIN:VEVENT
DTSTART;TZID=Europe/Helsinki:20250219T200000
DTEND;TZID=Europe/Helsinki:20250219T233000
DTSTAMP:20260423T182703
CREATED:20241219T193744Z
LAST-MODIFIED:20241219T194630Z
UID:1741-1739995200-1740007800@anders-kuscheln.com
SUMMARY:Kinky Cuddling - Berlin
DESCRIPTION:
URL:https://anders-kuscheln.com/en/event/kinky-cuddling-4/
LOCATION:Insomnia Berlin\, Alt-Tempelhof 17-19\, Berlin\, Berlin\, 12099\, Deutschland
END:VEVENT
BEGIN:VEVENT
DTSTART;TZID=Europe/Helsinki:20250201T190000
DTEND;TZID=Europe/Helsinki:20250201T233000
DTSTAMP:20260423T182703
CREATED:20241219T193611Z
LAST-MODIFIED:20241219T194653Z
UID:1737-1738436400-1738452600@anders-kuscheln.com
SUMMARY:Kinky Cuddling - Berlin
DESCRIPTION:
URL:https://anders-kuscheln.com/en/event/kinky-cuddling-3/
LOCATION:Insomnia Berlin\, Alt-Tempelhof 17-19\, Berlin\, Berlin\, 12099\, Deutschland
END:VEVENT
BEGIN:VEVENT
DTSTART;TZID=Europe/Helsinki:20250124T200000
DTEND;TZID=Europe/Helsinki:20250124T233000
DTSTAMP:20260423T182703
CREATED:20241125T081456Z
LAST-MODIFIED:20241125T124313Z
UID:1699-1737748800-1737761400@anders-kuscheln.com
SUMMARY:Kinky Cuddling - Vienna
DESCRIPTION:
URL:https://anders-kuscheln.com/en/event/kinky-cuddling-vienna-4/
LOCATION:Dragonfly Vienna\, Tellgasse 25\, Vienna\, Vienna\, 1150\, Österreich
END:VEVENT
BEGIN:VEVENT
DTSTART;TZID=Europe/Helsinki:20250115T200000
DTEND;TZID=Europe/Helsinki:20250115T233000
DTSTAMP:20260423T182703
CREATED:20241219T193426Z
LAST-MODIFIED:20241219T194722Z
UID:1734-1736971200-1736983800@anders-kuscheln.com
SUMMARY:Kinky Cuddling - Berlin
DESCRIPTION:
URL:https://anders-kuscheln.com/en/event/kinky-cuddling-2/
LOCATION:Insomnia Berlin\, Alt-Tempelhof 17-19\, Berlin\, Berlin\, 12099\, Deutschland
END:VEVENT
BEGIN:VEVENT
DTSTART;TZID=Europe/Helsinki:20250104T190000
DTEND;TZID=Europe/Helsinki:20250104T233000
DTSTAMP:20260423T182703
CREATED:20241219T193220Z
LAST-MODIFIED:20241219T194900Z
UID:1730-1736017200-1736033400@anders-kuscheln.com
SUMMARY:Kinky Cuddling - Berlin
DESCRIPTION:
URL:https://anders-kuscheln.com/en/event/kinky-cuddling/
LOCATION:Insomnia Berlin\, Alt-Tempelhof 17-19\, Berlin\, Berlin\, 12099\, Deutschland
END:VEVENT
BEGIN:VEVENT
DTSTART;TZID=Europe/Helsinki:20241220T200000
DTEND;TZID=Europe/Helsinki:20241220T233000
DTSTAMP:20260423T182703
CREATED:20240923T195021Z
LAST-MODIFIED:20241219T195124Z
UID:1045-1734724800-1734737400@anders-kuscheln.com
SUMMARY:Kinky Cuddling Vienna
DESCRIPTION:
URL:https://anders-kuscheln.com/en/event/kinky-cuddling-vienna/
LOCATION:Dragonfly Vienna\, Tellgasse 25\, Vienna\, Vienna\, 1150\, Österreich
CATEGORIES:Kinky Cuddling
END:VEVENT
BEGIN:VEVENT
DTSTART;TZID=Europe/Helsinki:20241218T200000
DTEND;TZID=Europe/Helsinki:20241219T140000
DTSTAMP:20260423T182703
CREATED:20240923T194437Z
LAST-MODIFIED:20240923T194437Z
UID:1041-1734552000-1734616800@anders-kuscheln.com
SUMMARY:Kinky Cuddling Berlin
DESCRIPTION:
URL:https://anders-kuscheln.com/en/event/kinky-cuddling-berlin/
LOCATION:Insomnia Berlin\, Alt-Tempelhof 17-19\, Berlin\, Berlin\, 12099\, Deutschland
CATEGORIES:Kinky Cuddling
END:VEVENT
BEGIN:VEVENT
DTSTART;TZID=Europe/Helsinki:20241207T200000
DTEND;TZID=Europe/Helsinki:20241208T030000
DTSTAMP:20260423T182703
CREATED:20240923T195321Z
LAST-MODIFIED:20240923T195321Z
UID:1042-1733601600-1733626800@anders-kuscheln.com
SUMMARY:Kinky Cuddling Berlin
DESCRIPTION:
URL:https://anders-kuscheln.com/en/event/kinky-cuddling-berlin/
LOCATION:Insomnia Berlin\, Alt-Tempelhof 17-19\, Berlin\, Berlin\, 12099\, Deutschland
CATEGORIES:Kinky Cuddling
END:VEVENT
BEGIN:VEVENT
DTSTART;TZID=Europe/Helsinki:20241120T200000
DTEND;TZID=Europe/Helsinki:20241121T020000
DTSTAMP:20260423T182703
CREATED:20240923T194153Z
LAST-MODIFIED:20240923T194153Z
UID:1046-1732132800-1732154400@anders-kuscheln.com
SUMMARY:Kinky Cuddling Berlin
DESCRIPTION:
URL:https://anders-kuscheln.com/en/event/kinky-cuddling-berlin-4/
LOCATION:Insomnia Berlin\, Alt-Tempelhof 17-19\, Berlin\, Berlin\, 12099\, Deutschland
CATEGORIES:Kinky Cuddling
END:VEVENT
BEGIN:VEVENT
DTSTART;TZID=Europe/Helsinki:20241116T200000
DTEND;TZID=Europe/Helsinki:20241117T023000
DTSTAMP:20260423T182703
CREATED:20240923T194931Z
LAST-MODIFIED:20240923T194931Z
UID:1047-1731787200-1731810600@anders-kuscheln.com
SUMMARY:Kinky Cuddling Vienna
DESCRIPTION:
URL:https://anders-kuscheln.com/en/event/kinky-cuddling-vienna-2/
CATEGORIES:Kinky Cuddling
END:VEVENT
BEGIN:VEVENT
DTSTART;TZID=Europe/Helsinki:20241102T200000
DTEND;TZID=Europe/Helsinki:20241103T030000
DTSTAMP:20260423T182703
CREATED:20240923T195236Z
LAST-MODIFIED:20240923T195236Z
UID:1043-1730577600-1730602800@anders-kuscheln.com
SUMMARY:Kinky Cuddling Berlin
DESCRIPTION:
URL:https://anders-kuscheln.com/en/event/kinky-cuddling-berlin-2/
LOCATION:Insomnia Berlin\, Alt-Tempelhof 17-19\, Berlin\, Berlin\, 12099\, Deutschland
CATEGORIES:Kinky Cuddling
END:VEVENT
BEGIN:VEVENT
DTSTART;TZID=Europe/Helsinki:20241030T200000
DTEND;TZID=Europe/Helsinki:20241031T010000
DTSTAMP:20260423T182703
CREATED:20240923T194043Z
LAST-MODIFIED:20240923T194043Z
UID:1048-1730318400-1730336400@anders-kuscheln.com
SUMMARY:Playfight Berlin
DESCRIPTION:
URL:https://anders-kuscheln.com/en/event/playfight-berlin/
LOCATION:Insomnia Berlin\, Alt-Tempelhof 17-19\, Berlin\, Berlin\, 12099\, Deutschland
CATEGORIES:Playfight
END:VEVENT
BEGIN:VEVENT
DTSTART;TZID=Europe/Helsinki:20241016T200000
DTEND;TZID=Europe/Helsinki:20241017T140000
DTSTAMP:20260423T182703
CREATED:20240923T194345Z
LAST-MODIFIED:20240923T194345Z
UID:1044-1729108800-1729173600@anders-kuscheln.com
SUMMARY:Kinky Cuddling Berlin
DESCRIPTION:
URL:https://anders-kuscheln.com/en/event/kinky-cuddling-berlin-3/
LOCATION:Insomnia Berlin\, Alt-Tempelhof 17-19\, Berlin\, Berlin\, 12099\, Deutschland
CATEGORIES:Kinky Cuddling
END:VEVENT
BEGIN:VEVENT
DTSTART;TZID=Europe/Helsinki:20241009T200000
DTEND;TZID=Europe/Helsinki:20241013T113000
DTSTAMP:20260423T182703
CREATED:20240923T194810Z
LAST-MODIFIED:20240923T194810Z
UID:1049-1728504000-1728819000@anders-kuscheln.com
SUMMARY:Threshold Festival
DESCRIPTION:
URL:https://anders-kuscheln.com/en/event/threshold-festival/
LOCATION:The Waldhof Zell am See\, Zell am See\, Austria
END:VEVENT
BEGIN:VEVENT
DTSTART;TZID=Europe/Helsinki:20241005T200000
DTEND;TZID=Europe/Helsinki:20241006T030000
DTSTAMP:20260423T182703
CREATED:20240923T193852Z
LAST-MODIFIED:20240923T193852Z
UID:1050-1728158400-1728183600@anders-kuscheln.com
SUMMARY:Kinky Cuddling Berlin
DESCRIPTION:
URL:https://anders-kuscheln.com/en/event/kinky-cuddling-berlin-5/
LOCATION:Insomnia Berlin\, Alt-Tempelhof 17-19\, Berlin\, Berlin\, 12099\, Deutschland
CATEGORIES:Kinky Cuddling
END:VEVENT
BEGIN:VEVENT
DTSTART;TZID=Europe/Helsinki:20240918T200000
DTEND;TZID=Europe/Helsinki:20240918T210000
DTSTAMP:20260423T182703
CREATED:20240801T061530Z
LAST-MODIFIED:20240801T061530Z
UID:1055-1726689600-1726693200@anders-kuscheln.com
SUMMARY:Kinky Cuddling Berlin
DESCRIPTION:
URL:https://anders-kuscheln.com/en/event/kinky-cuddling-berlin-8/
LOCATION:Insomnia Berlin\, Alt-Tempelhof 17-19\, Berlin\, Berlin\, 12099\, Deutschland
CATEGORIES:Kinky Cuddling
END:VEVENT
BEGIN:VEVENT
DTSTART;TZID=Europe/Helsinki:20240914T200000
DTEND;TZID=Europe/Helsinki:20240914T210000
DTSTAMP:20260423T182703
CREATED:20240801T061636Z
LAST-MODIFIED:20240801T061636Z
UID:1053-1726344000-1726347600@anders-kuscheln.com
SUMMARY:Kinky Cuddling Vienna
DESCRIPTION:
URL:https://anders-kuscheln.com/en/event/kinky-cuddling-vienna-3/
LOCATION:Dragonfly Vienna\, Tellgasse 25\, Vienna\, Vienna\, 1150\, Österreich
CATEGORIES:Kinky Cuddling
END:VEVENT
BEGIN:VEVENT
DTSTART;TZID=Europe/Helsinki:20240901T200000
DTEND;TZID=Europe/Helsinki:20240901T210000
DTSTAMP:20260423T182703
CREATED:20240802T192027Z
LAST-MODIFIED:20240802T192027Z
UID:1052-1725220800-1725224400@anders-kuscheln.com
SUMMARY:Kinky Cuddling Berlin
DESCRIPTION:
URL:https://anders-kuscheln.com/en/event/kinky-cuddling-berlin-6/
LOCATION:Insomnia Berlin\, Alt-Tempelhof 17-19\, Berlin\, Berlin\, 12099\, Deutschland
CATEGORIES:Kinky Cuddling
END:VEVENT
BEGIN:VEVENT
DTSTART;TZID=Europe/Helsinki:20240821T200000
DTEND;TZID=Europe/Helsinki:20240821T210000
DTSTAMP:20260423T182703
CREATED:20240801T061446Z
LAST-MODIFIED:20240801T061446Z
UID:1057-1724270400-1724274000@anders-kuscheln.com
SUMMARY:Kinky Cuddling Berlin
DESCRIPTION:
URL:https://anders-kuscheln.com/en/event/kinky-cuddling-berlin-9/
LOCATION:Insomnia Berlin\, Alt-Tempelhof 17-19\, Berlin\, Berlin\, 12099\, Deutschland
CATEGORIES:Kinky Cuddling
END:VEVENT
BEGIN:VEVENT
DTSTART;TZID=Europe/Helsinki:20240803T200000
DTEND;TZID=Europe/Helsinki:20240803T210000
DTSTAMP:20260423T182703
CREATED:20240801T061326Z
LAST-MODIFIED:20240801T061326Z
UID:1059-1722715200-1722718800@anders-kuscheln.com
SUMMARY:Kinky Cuddling Berlin
DESCRIPTION:
URL:https://anders-kuscheln.com/en/event/kinky-cuddling-berlin-11/
LOCATION:Insomnia Berlin\, Alt-Tempelhof 17-19\, Berlin\, Berlin\, 12099\, Deutschland
CATEGORIES:Kinky Cuddling
END:VEVENT
BEGIN:VEVENT
DTSTART;TZID=Europe/Helsinki:20240619T200000
DTEND;TZID=Europe/Helsinki:20240619T210000
DTSTAMP:20260423T182703
CREATED:20240310T192544Z
LAST-MODIFIED:20240310T192544Z
UID:1051-1718827200-1718830800@anders-kuscheln.com
SUMMARY:Kinky Cuddling Berlin
DESCRIPTION:
URL:https://anders-kuscheln.com/en/event/kinky-cuddling-berlin-6/
CATEGORIES:Kinky Cuddling
END:VEVENT
BEGIN:VEVENT
DTSTART;TZID=Europe/Helsinki:20240601T200000
DTEND;TZID=Europe/Helsinki:20240601T210000
DTSTAMP:20260423T182703
CREATED:20240310T192528Z
LAST-MODIFIED:20240310T192528Z
UID:1054-1717272000-1717275600@anders-kuscheln.com
SUMMARY:Kinky Cuddling Berlin
DESCRIPTION:
URL:https://anders-kuscheln.com/en/event/kinky-cuddling-berlin-7/
LOCATION:Insomnia Berlin\, Alt-Tempelhof 17-19\, Berlin\, Berlin\, 12099\, Deutschland
CATEGORIES:Kinky Cuddling
END:VEVENT
BEGIN:VEVENT
DTSTART;TZID=Europe/Helsinki:20240525T200000
DTEND;TZID=Europe/Helsinki:20240525T210000
DTSTAMP:20260423T182703
CREATED:20240310T192510Z
LAST-MODIFIED:20240310T192510Z
UID:1056-1716667200-1716670800@anders-kuscheln.com
SUMMARY:Kinky Cuddling Berlin
DESCRIPTION:
URL:https://anders-kuscheln.com/en/event/kinky-cuddling-berlin-8/
LOCATION:Insomnia Berlin\, Alt-Tempelhof 17-19\, Berlin\, Berlin\, 12099\, Deutschland
CATEGORIES:Kinky Cuddling
END:VEVENT
BEGIN:VEVENT
DTSTART;TZID=Europe/Helsinki:20240515T200000
DTEND;TZID=Europe/Helsinki:20240515T210000
DTSTAMP:20260423T182703
CREATED:20240310T192444Z
LAST-MODIFIED:20240310T192444Z
UID:1058-1715803200-1715806800@anders-kuscheln.com
SUMMARY:Kinky Cuddling Berlin
DESCRIPTION:
URL:https://anders-kuscheln.com/en/event/kinky-cuddling-berlin-10/
LOCATION:Insomnia Berlin\, Alt-Tempelhof 17-19\, Berlin\, Berlin\, 12099\, Deutschland
CATEGORIES:Kinky Cuddling
END:VEVENT
BEGIN:VEVENT
DTSTART;TZID=Europe/Helsinki:20240421T160000
DTEND;TZID=Europe/Helsinki:20240421T170000
DTSTAMP:20260423T182703
CREATED:20240310T192423Z
LAST-MODIFIED:20240310T192423Z
UID:1060-1713715200-1713718800@anders-kuscheln.com
SUMMARY:Playfight Barcelona
DESCRIPTION:Where sensuality meets sparring!\n  Are you drawn to the art of wrestling or do you simply crave the thrill of playful combat?\nImagine an environment where the line between wrestling and sensuality blurs into an electrifying experience.\nGet ready to immerse yourself in the first edition of Playfight Barcelona!\nUnleash your inner playfulness and dive headfirst into this tantalizing event curated by none other than Ona\, the mastermind behind Kinky Cuddling Barcelona\, and Elias\, a professional judo coach from Berlin with a penchant for kink.\nWhether you’re an experienced martial artist or a curious newbie\, there’s a place for you in our arena.\nWe’ll guide you through the techniques and provide you with a safe and comfortable space to explore your desires.\nAnd for an extra dose of slippery excitement\, we invite you to indulge in Nuru gel to give it a playful twist.\nGet ready to spar\, seduce and surrender to the temptations of playfighting
URL:https://anders-kuscheln.com/en/event/playfight-barcelona/
CATEGORIES:Playfight
END:VEVENT
END:VCALENDAR